BEGIN:VCALENDAR
VERSION:2.0
PRODID:-//www.capitalhumanesociety.org//NONSGML kigkonsult.se iCalcreator 2
 .30.10//
CALSCALE:GREGORIAN
METHOD:PUBLISH
UID:caba7957-f536-4470-ba8d-d3b7ac49f6e5
X-WR-CALDESC:Tickets on sale Early November
X-WR-RELCALID:1304b997df95e4b34b25f4865ba24354
X-WR-TIMEZONE:America/Chicago
BEGIN:VTIMEZONE
TZID:America/Chicago
BEGIN:STANDARD
TZNAME:CST
DTSTART:20261101T020000
TZOFFSETFROM:-0500
TZOFFSETTO:-0600
RDATE:20271107T020000
END:STANDARD
BEGIN:DAYLIGHT
TZNAME:CDT
DTSTART:20260308T020000
TZOFFSETFROM:-0600
TZOFFSETTO:-0500
RDATE:20270314T020000
RDATE:20280312T020000
END:DAYLIGHT
END:VTIMEZONE
BEGIN:VEVENT
UID:e1b0d3e0-60ff-4d0f-af29-4bb7851f9c98
DTSTAMP:20260422T100858Z
DESCRIPTION:Tickets on sale Early November
DTSTART;TZID=America/Chicago:20261121T110000
DTEND;TZID=America/Chicago:20261121T120000
LOCATION:6500 South 70th Street\, Lincoln\, NE 68516 US
SUMMARY:Zen Dogi Puppy Yoga
END:VEVENT
END:VCALENDAR
